

BEGIN:VCALENDAR
VERSION:2.0
PRODID:-//Alexander Holburn Beaudin + Lang LLP
 //NONSGML Events //EN
CALSCALE:GREGORIAN
BEGIN:VEVENT
CREATED:20260421T085545
UID:10611
DTSTART:20260507T220000Z
DTEND:20260508T000000Z
DTSTAMP:20260421T184252
LOCATION:UBC Robson Square\, Room C-300
DESCRIPTION:Join Ingrid Tsui, Partner and leader of our Wills, Estates + Trusts Practice Group, as she speaks in the Society of Trust and Estate Practitioners Van...
SUMMARY:Society of Trust and Estate Practitioners Vancouver Branch: Year in Review
ORGANIZER:CN=Alexander Holburn Beaudin + Lang LLP
URL;VALUE=URI:https://www.ahbl.ca/event/society-of-trust-and-estate-practitioners-vancouver-branch-year-in-review/
TRANSP:OPAQUE
END:VEVENT
END:VCALENDAR
	