

BEGIN:VCALENDAR
VERSION:2.0
PRODID:-//Alexander Holburn Beaudin + Lang LLP
 //NONSGML Events //EN
CALSCALE:GREGORIAN
BEGIN:VEVENT
CREATED:20190618T164512
UID:3738
DTSTART:20180926T190000Z
DTEND:20180926T200000Z
DTSTAMP:20260423T080643
LOCATION:Alexander Holburn
DESCRIPTION:Managing Employee Absenteeism A discussion of the best practices for businesses to manage employee absences including: • Culpable and non-culpable ...
SUMMARY:Labour + Employment Seminar: Managing Employee Absenteeism
ORGANIZER:CN=Alexander Holburn Beaudin + Lang LLP
URL;VALUE=URI:https://www.ahbl.ca/event/labour-employment-seminar-managing-employee-absenteeism/
TRANSP:OPAQUE
END:VEVENT
END:VCALENDAR
	