

BEGIN:VCALENDAR
VERSION:2.0
PRODID:-//Alexander Holburn Beaudin + Lang LLP
 //NONSGML Events //EN
CALSCALE:GREGORIAN
BEGIN:VEVENT
CREATED:20190619T095708
UID:3745
DTSTART:20180618T190000Z
DTEND:20180618T200000Z
DTSTAMP:20260423T080653
LOCATION:Alexander Holburn
DESCRIPTION:Builders Liens – Practical Tips and Pitfalls Topics covered will include:  Understanding your obligations Preserving your rights Small mistakes, big...
SUMMARY:Construction Seminar: Builders Liens
ORGANIZER:CN=Alexander Holburn Beaudin + Lang LLP
URL;VALUE=URI:https://www.ahbl.ca/event/construction-seminar-builders-liens/
TRANSP:OPAQUE
END:VEVENT
END:VCALENDAR
	