

BEGIN:VCALENDAR
VERSION:2.0
PRODID:-//Alexander Holburn Beaudin + Lang LLP
 //NONSGML Events //EN
CALSCALE:GREGORIAN
BEGIN:VEVENT
CREATED:20190619T100758
UID:3748
DTSTART:20180509T190000Z
DTEND:20180509T200000Z
DTSTAMP:20260421T105311
LOCATION:Alexander Holburn
DESCRIPTION:Pitfalls of Misclassifying Independent Contractors/Consultants This session will review the risks associated with the use of independent contractors a...
SUMMARY:Labour + Employment Seminar: Independent Contractors/Consultants
ORGANIZER:CN=Alexander Holburn Beaudin + Lang LLP
URL;VALUE=URI:https://www.ahbl.ca/event/labour-employment-seminar-independent-contractors-consultants/
TRANSP:OPAQUE
END:VEVENT
END:VCALENDAR
	