

BEGIN:VCALENDAR
VERSION:2.0
PRODID:-//Alexander Holburn Beaudin + Lang LLP
 //NONSGML Events //EN
CALSCALE:GREGORIAN
BEGIN:VEVENT
CREATED:20190904T100203
UID:4322
DTSTART:20191017T160000Z
DTEND:20191017T230000Z
DTSTAMP:20260421T172714
LOCATION:Pan Pacific Hotel
DESCRIPTION:On Thursday, October 17, 2019, Lisa Mackie, Partner and leader of our Strata Property Practice, will be co-presenting alongside Jennifer Neville (Hami...
SUMMARY:CLEBC: Essential Strata Property Updates 2019
ORGANIZER:CN=Alexander Holburn Beaudin + Lang LLP
URL;VALUE=URI:https://www.ahbl.ca/event/clebc-essential-strata-property-updates-2019/
TRANSP:OPAQUE
END:VEVENT
END:VCALENDAR
	