

BEGIN:VCALENDAR
VERSION:2.0
PRODID:-//Alexander Holburn Beaudin + Lang LLP
 //NONSGML Events //EN
CALSCALE:GREGORIAN
BEGIN:VEVENT
CREATED:20220420T092545
UID:6740
DTSTART:20220426T070000Z
DTEND:20220428T065900Z
DTSTAMP:20260423T080633
LOCATION:Vancouver Convention Centre West
DESCRIPTION:Michael Watt, Partner will be presenting with Stephanie Vellins, Partner at Harris &amp; Company LLP at the 59th annual CPHR BC &amp; Yukon Virtual H...
SUMMARY:CPHR BC & Yukon: Virtual HR Conference & Expo 2022
ORGANIZER:CN=Alexander Holburn Beaudin + Lang LLP
URL;VALUE=URI:https://www.ahbl.ca/event/cphr-bc-yukon-virtual-hr-conference-expo-2022/
TRANSP:OPAQUE
END:VEVENT
END:VCALENDAR
	