

BEGIN:VCALENDAR
VERSION:2.0
PRODID:-//Alexander Holburn Beaudin + Lang LLP
 //NONSGML Events //EN
CALSCALE:GREGORIAN
BEGIN:VEVENT
CREATED:20250106T152149
UID:9526
DTSTART:20250129T170000Z
DTEND:20250130T004000Z
DTSTAMP:20260421T093131
LOCATION:UBC Robson Square
DESCRIPTION:Aubrie Girou, Partner and member of our Wills, Estates + Trusts Practice Group, will be a co-chair and a featured presenter at the Estate Administrati...
SUMMARY:Pacific Business & Law Institute: Estate Administration 2025
ORGANIZER:CN=Alexander Holburn Beaudin + Lang LLP
URL;VALUE=URI:https://www.ahbl.ca/event/pacific-business-law-institute-estate-administration-2025/
TRANSP:OPAQUE
END:VEVENT
END:VCALENDAR
	